BEGIN:VCALENDAR
VERSION:2.0
PRODID:-//eventon.com NONSGML v1.0//EN
CALSCALE:GREGORIAN
METHOD:PUBLISH
BEGIN:VEVENT
UID:69e8a198a0ed1
DTSTAMP:20260422T102320Z
DTSTART:20200209T000000Z
DTEND:20200401T235900Z
LOCATION:
SUMMARY:Jornada de Evaluación
DESCRIPTION:Este mes\nhttps://colegiovirgendepompeya.cl/events/prueba-matem
 aticas/
URL:https://colegiovirgendepompeya.cl/events/prueba-matematicas/
END:VEVENT
END:VCALENDAR